BEGIN:VCALENDAR
VERSION:2.0
PRODID:-//Welcome to the DSTA website - ECPv5.0.3.1//NONSGML v1.0//EN
CALSCALE:GREGORIAN
METHOD:PUBLISH
X-WR-CALNAME:Welcome to the DSTA website
X-ORIGINAL-URL:http://www.duluthsuperiortransportation.com
X-WR-CALDESC:Events for Welcome to the DSTA website
BEGIN:VTIMEZONE
TZID:UTC
BEGIN:STANDARD
TZOFFSETFROM:+0000
TZOFFSETTO:+0000
TZNAME:UTC
DTSTART:20170101T000000
END:STANDARD
END:VTIMEZONE
BEGIN:VEVENT
DTSTART;VALUE=DATE:20170602
DTEND;VALUE=DATE:20170604
DTSTAMP:20260421T095641
CREATED:20170302T204030Z
LAST-MODIFIED:20170526T204731Z
UID:210-1496361600-1496534399@www.duluthsuperiortransportation.com
SUMMARY:Fill-a-Truck\, Feed a Family Event
DESCRIPTION:June 2-3\, 2017 \nDuluth Miller Hill and Superior Harbor View Super One Foods! \nVisit our trailers at the Duluth Miller Hill and Superior Harbor View Super One Foods stores!   Or you can also make a donation at any of the following local Super One Food stores: \n\nLakeside\nWest Duluth\nOakes Avenue Superior\nCloquet\nTwo Harvors\n\nFeed a Northland family in need.  Donate today! \nProceeds benefit Second Harvest Northern Lakes Food Bank \n
URL:http://www.duluthsuperiortransportation.com/event/fill-a-truck-feed-a-family-event/
CATEGORIES:Annual Events
END:VEVENT
END:VCALENDAR